BEGIN:VCALENDAR
VERSION:2.0
PRODID:-//NCC ASHRAE - ECPv6.15.20//NONSGML v1.0//EN
CALSCALE:GREGORIAN
METHOD:PUBLISH
X-ORIGINAL-URL:https://nccashrae.org
X-WR-CALDESC:Events for NCC ASHRAE
REFRESH-INTERVAL;VALUE=DURATION:PT1H
X-Robots-Tag:noindex
X-PUBLISHED-TTL:PT1H
BEGIN:VTIMEZONE
TZID:America/New_York
BEGIN:DAYLIGHT
TZOFFSETFROM:-0500
TZOFFSETTO:-0400
TZNAME:EDT
DTSTART:20220313T070000
END:DAYLIGHT
BEGIN:STANDARD
TZOFFSETFROM:-0400
TZOFFSETTO:-0500
TZNAME:EST
DTSTART:20221106T060000
END:STANDARD
BEGIN:DAYLIGHT
TZOFFSETFROM:-0500
TZOFFSETTO:-0400
TZNAME:EDT
DTSTART:20230312T070000
END:DAYLIGHT
BEGIN:STANDARD
TZOFFSETFROM:-0400
TZOFFSETTO:-0500
TZNAME:EST
DTSTART:20231105T060000
END:STANDARD
BEGIN:DAYLIGHT
TZOFFSETFROM:-0500
TZOFFSETTO:-0400
TZNAME:EDT
DTSTART:20240310T070000
END:DAYLIGHT
BEGIN:STANDARD
TZOFFSETFROM:-0400
TZOFFSETTO:-0500
TZNAME:EST
DTSTART:20241103T060000
END:STANDARD
END:VTIMEZONE
BEGIN:VEVENT
DTSTART;TZID=America/New_York:20231213T120000
DTEND;TZID=America/New_York:20231213T130000
DTSTAMP:20260423T044430
CREATED:20231204T211212Z
LAST-MODIFIED:20240130T164141Z
UID:64824-1702468800-1702472400@nccashrae.org
SUMMARY:VIRTUAL PES: Hybrid December Chapter Meeting
DESCRIPTION:NCC ASHRAE February Virtual PES\nPDH certificates will be provided for attending this event. \nTheme:  Government Affairs / Sustainability \nTopic: New insights into space heating hot water systems in commercial buildings \nWhen: Wednesday\, February 18th\, 2025 \n\n12:00 PM - 1:00 PM EDT\n\nWhere: Virtual meeting link will be provided upon registration. \n\n\n	\n\n\n	Professional Education Seminar (PES)\nNew Insights Into Space Heating Hot Water Systems in Commercial Buildings\nSpace heating hot water systems are typically the largest generator of both site- and source- carbon emissions in existing commercial buildings in the US. Better understanding these systems is crucial to decarbonizing the built environment as cost effectively and quickly as possible. This presentation will share findings from a recently completed 4 year long research and demonstration project funded by the California Energy Commission that focused on these systems. The results include a demonstration of in-depth efficiency measures that reduced annual natural gas use by 70% in two existing large office buildings in the San Francisco Bay Area\, distribution heat losses measured in seven buildings\, an analysis of hydronic heating system data from hundreds of buildings nationwide\, and more. \n\n\n\n			\n	\n	\n				\n					\n	\n\n\n			\n	\n	Paul Raftery\nPaul Raftery is a Professional Researcher at the Center for the Built Environment at UC Berkeley. He has a PhD in Engineering from University of Galway\, Ireland for developing a new method for calibrating building energy models to detailed measured data\, and a Bachelor's of Mechanical Engineering from Munster Technical University. Paul has 20 years of hands-on experience in HVAC engineering\, building automation systems and controls\, full-scale laboratory and field testing of HVAC equipment\, and new technology development. He is a Fulbright Fellow and an active member of ASHRAE as the past chair of ASHRAE TC 6.5 (Radiant heating and cooling) and current voting member of ASHRAE Guideline 36 (High performance control sequences).He has served as a Principal Investigator on several large\, multi-year research projects on topics such as commercial building controls\, hydronic heating systems\, heat pumps\, radiant systems and ceiling fans funded by the California Energy Commission and the Department of Energy. \n\n\n\n	\n\n	\n\n\n	Please note: The tickets below are ONLY for the Virtual PES.  \nDinner Presentation tickets must be purchased separately! \n\n\n			\n							Click here to register for the February Dinner Presentation!
URL:https://nccashrae.org/event/virtual-pes-hybrid-december-chapter-meeting/
END:VEVENT
BEGIN:VEVENT
DTSTART;TZID=America/New_York:20231213T173000
DTEND;TZID=America/New_York:20231213T200000
DTSTAMP:20260423T044430
CREATED:20231204T213449Z
LAST-MODIFIED:20240130T172155Z
UID:64830-1702488600-1702497600@nccashrae.org
SUMMARY:In-Person Dinner Presentation: Hybrid December Chapter Meeting
DESCRIPTION:NCC ASHRAE February Virtual PES\nPDH certificates will be provided for attending this event. \nTheme:  Government Affairs / Sustainability \nTopic: New insights into space heating hot water systems in commercial buildings \nWhen: Wednesday\, February 18th\, 2025 \n\n12:00 PM - 1:00 PM EDT\n\nWhere: Virtual meeting link will be provided upon registration. \n\n\n	\n\n\n	Professional Education Seminar (PES)\nNew Insights Into Space Heating Hot Water Systems in Commercial Buildings\nSpace heating hot water systems are typically the largest generator of both site- and source- carbon emissions in existing commercial buildings in the US. Better understanding these systems is crucial to decarbonizing the built environment as cost effectively and quickly as possible. This presentation will share findings from a recently completed 4 year long research and demonstration project funded by the California Energy Commission that focused on these systems. The results include a demonstration of in-depth efficiency measures that reduced annual natural gas use by 70% in two existing large office buildings in the San Francisco Bay Area\, distribution heat losses measured in seven buildings\, an analysis of hydronic heating system data from hundreds of buildings nationwide\, and more. \n\n\n\n			\n	\n	\n				\n					\n	\n\n\n			\n	\n	Paul Raftery\nPaul Raftery is a Professional Researcher at the Center for the Built Environment at UC Berkeley. He has a PhD in Engineering from University of Galway\, Ireland for developing a new method for calibrating building energy models to detailed measured data\, and a Bachelor's of Mechanical Engineering from Munster Technical University. Paul has 20 years of hands-on experience in HVAC engineering\, building automation systems and controls\, full-scale laboratory and field testing of HVAC equipment\, and new technology development. He is a Fulbright Fellow and an active member of ASHRAE as the past chair of ASHRAE TC 6.5 (Radiant heating and cooling) and current voting member of ASHRAE Guideline 36 (High performance control sequences).He has served as a Principal Investigator on several large\, multi-year research projects on topics such as commercial building controls\, hydronic heating systems\, heat pumps\, radiant systems and ceiling fans funded by the California Energy Commission and the Department of Energy. \n\n\n\n	\n\n	\n\n\n	Please note: The tickets below are ONLY for the Virtual PES.  \nDinner Presentation tickets must be purchased separately! \n\n\n			\n							Click here to register for the February Dinner Presentation!
URL:https://nccashrae.org/event/in-person-dinner-presentation-hybrid-december-chapter-meeting/
LOCATION:Rhodeside Grill\, 1836 Wilson Blvd\, Arlington\, VA\, 22201\, United States
END:VEVENT
END:VCALENDAR