BEGIN:VCALENDAR
VERSION:2.0
PRODID:-//NCC ASHRAE - ECPv6.15.20//NONSGML v1.0//EN
CALSCALE:GREGORIAN
METHOD:PUBLISH
X-WR-CALNAME:NCC ASHRAE
X-ORIGINAL-URL:https://nccashrae.org
X-WR-CALDESC:Events for NCC ASHRAE
REFRESH-INTERVAL;VALUE=DURATION:PT1H
X-Robots-Tag:noindex
X-PUBLISHED-TTL:PT1H
BEGIN:VTIMEZONE
TZID:America/New_York
BEGIN:DAYLIGHT
TZOFFSETFROM:-0500
TZOFFSETTO:-0400
TZNAME:EDT
DTSTART:20220313T070000
END:DAYLIGHT
BEGIN:STANDARD
TZOFFSETFROM:-0400
TZOFFSETTO:-0500
TZNAME:EST
DTSTART:20221106T060000
END:STANDARD
BEGIN:DAYLIGHT
TZOFFSETFROM:-0500
TZOFFSETTO:-0400
TZNAME:EDT
DTSTART:20230312T070000
END:DAYLIGHT
BEGIN:STANDARD
TZOFFSETFROM:-0400
TZOFFSETTO:-0500
TZNAME:EST
DTSTART:20231105T060000
END:STANDARD
BEGIN:DAYLIGHT
TZOFFSETFROM:-0500
TZOFFSETTO:-0400
TZNAME:EDT
DTSTART:20240310T070000
END:DAYLIGHT
BEGIN:STANDARD
TZOFFSETFROM:-0400
TZOFFSETTO:-0500
TZNAME:EST
DTSTART:20241103T060000
END:STANDARD
END:VTIMEZONE
BEGIN:VEVENT
DTSTART;TZID=America/New_York:20230301T180000
DTEND;TZID=America/New_York:20230301T203000
DTSTAMP:20260423T060828
CREATED:20230215T030555Z
LAST-MODIFIED:20230223T121220Z
UID:51833-1677693600-1677702600@nccashrae.org
SUMMARY:YEA Happy Hour - Punch Bowl Social
DESCRIPTION:Young Engineers in ASHRAE’s National Capital Chapter invites you to a happy hour at Punch Bowl Social Arlington for an evening of networking and fun! Bring a friend and join ASHRAE YEA NCC for food\, drinks\, and games. \nThank you to Johnson Controls to sponsoring this event!
URL:https://nccashrae.org/event/yea-happy-hour-social/
LOCATION:Punch Bowl Social Arlington\, 4238 Wilson Blvd Ste 1180\, \, VA\, Arlington\, VA\, 22203\, United States
CATEGORIES:YEA
ATTACH;FMTTYPE=image/jpeg:https://nccashrae.org/wp-content/uploads/2023/02/82ebb9090ea8a4f419ec30fefa3fe945-e1676430185483.jpg
ORGANIZER;CN="Zach DeLuke":MAILTO:yea@nccashrae.org
END:VEVENT
END:VCALENDAR