BEGIN:VCALENDAR
VERSION:2.0
PRODID:-//NCC ASHRAE - ECPv6.15.20//NONSGML v1.0//EN
CALSCALE:GREGORIAN
METHOD:PUBLISH
X-WR-CALNAME:NCC ASHRAE
X-ORIGINAL-URL:https://nccashrae.org
X-WR-CALDESC:Events for NCC ASHRAE
REFRESH-INTERVAL;VALUE=DURATION:PT1H
X-Robots-Tag:noindex
X-PUBLISHED-TTL:PT1H
BEGIN:VTIMEZONE
TZID:America/New_York
BEGIN:DAYLIGHT
TZOFFSETFROM:-0500
TZOFFSETTO:-0400
TZNAME:EDT
DTSTART:20230312T070000
END:DAYLIGHT
BEGIN:STANDARD
TZOFFSETFROM:-0400
TZOFFSETTO:-0500
TZNAME:EST
DTSTART:20231105T060000
END:STANDARD
BEGIN:DAYLIGHT
TZOFFSETFROM:-0500
TZOFFSETTO:-0400
TZNAME:EDT
DTSTART:20240310T070000
END:DAYLIGHT
BEGIN:STANDARD
TZOFFSETFROM:-0400
TZOFFSETTO:-0500
TZNAME:EST
DTSTART:20241103T060000
END:STANDARD
BEGIN:DAYLIGHT
TZOFFSETFROM:-0500
TZOFFSETTO:-0400
TZNAME:EDT
DTSTART:20250309T070000
END:DAYLIGHT
BEGIN:STANDARD
TZOFFSETFROM:-0400
TZOFFSETTO:-0500
TZNAME:EST
DTSTART:20251102T060000
END:STANDARD
END:VTIMEZONE
BEGIN:VEVENT
DTSTART;TZID=America/New_York:20240222T170000
DTEND;TZID=America/New_York:20240222T200000
DTSTAMP:20260419T085837
CREATED:20240208T004019Z
LAST-MODIFIED:20240222T005709Z
UID:67188-1708621200-1708632000@nccashrae.org
SUMMARY:YEA Event - Ice Skating at the Sculpture Garden
DESCRIPTION:ASHRAE NCC and AEI DC are collaborating to host an ice skating event at the National Gallery of Art Sculpture Garden on Thursday\, February 22nd. \nPrior to ice skating\, we will meet at Penn Quarter Sports Tavern for a happy hour. \nDue to the rinks capacity limitations\, we plan to purchase tickets ahead of time and reserve our spots. Registration ends at 5pm on Monday\, February 19th. \nWhen: \nThursday\, February 22nd 2024 \nHappy Hour – 5 PM to 6:30 PM \nIce Skating – 7:00 PM \n  \nWhere: \nHappy Hour – Penn Quarter Sports Tavern (639 Indiana Ave NW) \nIce Skating – National Gallery of Art Sculpture Garden (Constitution Ave & 7th Street NW) \nREGISTER NOW!!  \nThe registration deadline for this event is Monday\, February 19th. To register\, please follow the link below. \nWe are collecting all registrations via the ASCE website\, so you will need to create a free account to complete your registration. \nCLICK HERE TO REGISTER \nAny questions? Please reach out to yea@nccashrae.org
URL:https://nccashrae.org/event/yea-event-ice-skating-at-the-sculpture-garden/
LOCATION:National Gallery of Art
CATEGORIES:YEA
ORGANIZER;CN="Young Engineers in ASHRAE (YEA)":MAILTO:yea@nccashrae.org
END:VEVENT
END:VCALENDAR