BEGIN:VCALENDAR
VERSION:2.0
PRODID:-//NCC ASHRAE - ECPv6.15.20//NONSGML v1.0//EN
CALSCALE:GREGORIAN
METHOD:PUBLISH
X-WR-CALNAME:NCC ASHRAE
X-ORIGINAL-URL:https://nccashrae.org
X-WR-CALDESC:Events for NCC ASHRAE
REFRESH-INTERVAL;VALUE=DURATION:PT1H
X-Robots-Tag:noindex
X-PUBLISHED-TTL:PT1H
BEGIN:VTIMEZONE
TZID:America/New_York
BEGIN:DAYLIGHT
TZOFFSETFROM:-0500
TZOFFSETTO:-0400
TZNAME:EDT
DTSTART:20200308T070000
END:DAYLIGHT
BEGIN:STANDARD
TZOFFSETFROM:-0400
TZOFFSETTO:-0500
TZNAME:EST
DTSTART:20201101T060000
END:STANDARD
BEGIN:DAYLIGHT
TZOFFSETFROM:-0500
TZOFFSETTO:-0400
TZNAME:EDT
DTSTART:20210314T070000
END:DAYLIGHT
BEGIN:STANDARD
TZOFFSETFROM:-0400
TZOFFSETTO:-0500
TZNAME:EST
DTSTART:20211107T060000
END:STANDARD
BEGIN:DAYLIGHT
TZOFFSETFROM:-0500
TZOFFSETTO:-0400
TZNAME:EDT
DTSTART:20220313T070000
END:DAYLIGHT
BEGIN:STANDARD
TZOFFSETFROM:-0400
TZOFFSETTO:-0500
TZNAME:EST
DTSTART:20221106T060000
END:STANDARD
BEGIN:DAYLIGHT
TZOFFSETFROM:-0500
TZOFFSETTO:-0400
TZNAME:EDT
DTSTART:20230312T070000
END:DAYLIGHT
BEGIN:STANDARD
TZOFFSETFROM:-0400
TZOFFSETTO:-0500
TZNAME:EST
DTSTART:20231105T060000
END:STANDARD
END:VTIMEZONE
BEGIN:VEVENT
DTSTART;TZID=America/New_York:20220429T180000
DTEND;TZID=America/New_York:20220429T200000
DTSTAMP:20260423T160734
CREATED:20220410T205957Z
LAST-MODIFIED:20220412T175115Z
UID:45576-1651255200-1651262400@nccashrae.org
SUMMARY:Spring Networking Event
DESCRIPTION:NCC ASHRAE November Chapter Meeting Virtual PES\nPDH certificates will be provided for attending this event. \nTheme:  Research Promotion \nTopic: Leveraging Prefabrication through Design \nWhen: Wednesday\, November 6th\, 2024 \n\n12:00 PM - 1:00 PM EDT\n\nWhere: Virtual meeting link will be provided upon registration. \nAs a thank you to our membership\, PES tickets are FREE for NCC ASHRAE members. \n\n	\n\n\n	\n		\n			\n							Become a member and get your PES ticket for FREE!\n					\n\n	\n\n\n	\n		\n	\n\n\n	\n		\n	Professional Education Seminar (PES)\nLeveraging Prefabrication through Design\nOften installation methods aren’t discussed until a buildings construction phase. Such practices can produce significant scheduling delays and cost impacts. This presentation will discuss the needs during construction installation of MEPFP systems and the utilization of spooling and shop prefabrication during building design. Spooling and prefabrication efforts executed during design development produce accurate project scheduling\, effective MEPFP erection\, and safe installation practices. \n\n	\n\n\n\n			\n	\n	\n		\n	\n				\n					\n	\n	\n\n\n\n			\n	\n	\n		\n	Donnie Lawrence – Senior Project Constructability Lead - Southland Industries - Journeyman Steamfitter local 602\nAs Senior Project Constructability Lead\, Donald Lawrence has extensive experience in federal\, university\, healthcare\, and research facilities. His specific expertise focuses on managing assigned manpower and position resources to complete scheduled work\, managing RFIs and change orders to distribute all information to the team\, working with engineers and project managers on equipment selection\, and schedules\, and providing prefabrication opportunities during design and coordination. With over 21 years of experience\, Donald has worked on complex and confidential projects throughout the Mid-Atlantic region. \n\n	\n\n\n\n	\n\n	\n		\n	\n\n\n	\n		\n	Please note: The tickets below are ONLY for the Virtual PES.  \nDinner Presentation tickets must be purchased separately! \n\n	\n\n\n	\n		\n			\n							Click here to register for the November Dinner Presentation!
URL:https://nccashrae.org/event/spring-networking-event/
LOCATION:Convene\, 1201 Wilson Blvd\, 29th Floor Gallery\, Rosslyn\, VA\, 22209\, United States
ATTACH;FMTTYPE=image/jpeg:https://nccashrae.org/wp-content/uploads/2022/04/DSC_3316-pencil.jpg
END:VEVENT
BEGIN:VEVENT
DTSTART;TZID=America/New_York:20220413T153000
DTEND;TZID=America/New_York:20220413T183000
DTSTAMP:20260423T160734
CREATED:20220215T174302Z
LAST-MODIFIED:20220408T184734Z
UID:44711-1649863800-1649874600@nccashrae.org
SUMMARY:In-Person April Chapter Meeting
DESCRIPTION:NCC ASHRAE November Chapter Meeting Virtual PES\nPDH certificates will be provided for attending this event. \nTheme:  Research Promotion \nTopic: Leveraging Prefabrication through Design \nWhen: Wednesday\, November 6th\, 2024 \n\n12:00 PM - 1:00 PM EDT\n\nWhere: Virtual meeting link will be provided upon registration. \nAs a thank you to our membership\, PES tickets are FREE for NCC ASHRAE members. \n\n	\n\n\n	\n		\n			\n							Become a member and get your PES ticket for FREE!\n					\n\n	\n\n\n	\n		\n	\n\n\n	\n		\n	Professional Education Seminar (PES)\nLeveraging Prefabrication through Design\nOften installation methods aren’t discussed until a buildings construction phase. Such practices can produce significant scheduling delays and cost impacts. This presentation will discuss the needs during construction installation of MEPFP systems and the utilization of spooling and shop prefabrication during building design. Spooling and prefabrication efforts executed during design development produce accurate project scheduling\, effective MEPFP erection\, and safe installation practices. \n\n	\n\n\n\n			\n	\n	\n		\n	\n				\n					\n	\n	\n\n\n\n			\n	\n	\n		\n	Donnie Lawrence – Senior Project Constructability Lead - Southland Industries - Journeyman Steamfitter local 602\nAs Senior Project Constructability Lead\, Donald Lawrence has extensive experience in federal\, university\, healthcare\, and research facilities. His specific expertise focuses on managing assigned manpower and position resources to complete scheduled work\, managing RFIs and change orders to distribute all information to the team\, working with engineers and project managers on equipment selection\, and schedules\, and providing prefabrication opportunities during design and coordination. With over 21 years of experience\, Donald has worked on complex and confidential projects throughout the Mid-Atlantic region. \n\n	\n\n\n\n	\n\n	\n		\n	\n\n\n	\n		\n	Please note: The tickets below are ONLY for the Virtual PES.  \nDinner Presentation tickets must be purchased separately! \n\n	\n\n\n	\n		\n			\n							Click here to register for the November Dinner Presentation!
URL:https://nccashrae.org/event/2022-april-chapter-meeting/
LOCATION:Hilton Arlington\, 950 N Stafford St\, Arlington\, VA\, 22203\, United States
ATTACH;FMTTYPE=image/png:https://nccashrae.org/wp-content/uploads/2022/02/ASHRAE-Panelist.png
END:VEVENT
BEGIN:VEVENT
DTSTART;TZID=America/New_York:20220316T153000
DTEND;TZID=America/New_York:20220316T183000
DTSTAMP:20260423T160734
CREATED:20220215T174204Z
LAST-MODIFIED:20220311T230819Z
UID:44708-1647444600-1647455400@nccashrae.org
SUMMARY:In-Person March Chapter Meeting
DESCRIPTION:NCC ASHRAE November Chapter Meeting Virtual PES\nPDH certificates will be provided for attending this event. \nTheme:  Research Promotion \nTopic: Leveraging Prefabrication through Design \nWhen: Wednesday\, November 6th\, 2024 \n\n12:00 PM - 1:00 PM EDT\n\nWhere: Virtual meeting link will be provided upon registration. \nAs a thank you to our membership\, PES tickets are FREE for NCC ASHRAE members. \n\n	\n\n\n	\n		\n			\n							Become a member and get your PES ticket for FREE!\n					\n\n	\n\n\n	\n		\n	\n\n\n	\n		\n	Professional Education Seminar (PES)\nLeveraging Prefabrication through Design\nOften installation methods aren’t discussed until a buildings construction phase. Such practices can produce significant scheduling delays and cost impacts. This presentation will discuss the needs during construction installation of MEPFP systems and the utilization of spooling and shop prefabrication during building design. Spooling and prefabrication efforts executed during design development produce accurate project scheduling\, effective MEPFP erection\, and safe installation practices. \n\n	\n\n\n\n			\n	\n	\n		\n	\n				\n					\n	\n	\n\n\n\n			\n	\n	\n		\n	Donnie Lawrence – Senior Project Constructability Lead - Southland Industries - Journeyman Steamfitter local 602\nAs Senior Project Constructability Lead\, Donald Lawrence has extensive experience in federal\, university\, healthcare\, and research facilities. His specific expertise focuses on managing assigned manpower and position resources to complete scheduled work\, managing RFIs and change orders to distribute all information to the team\, working with engineers and project managers on equipment selection\, and schedules\, and providing prefabrication opportunities during design and coordination. With over 21 years of experience\, Donald has worked on complex and confidential projects throughout the Mid-Atlantic region. \n\n	\n\n\n\n	\n\n	\n		\n	\n\n\n	\n		\n	Please note: The tickets below are ONLY for the Virtual PES.  \nDinner Presentation tickets must be purchased separately! \n\n	\n\n\n	\n		\n			\n							Click here to register for the November Dinner Presentation!
URL:https://nccashrae.org/event/2022-march-chapter-meeting/
LOCATION:Hilton Arlington\, 950 N Stafford St\, Arlington\, VA\, 22203\, United States
ATTACH;FMTTYPE=image/jpeg:https://nccashrae.org/wp-content/uploads/2022/02/CrawleyDB-e1646973972273.jpg
END:VEVENT
BEGIN:VEVENT
DTSTART;TZID=America/New_York:20220223T120000
DTEND;TZID=America/New_York:20220223T140000
DTSTAMP:20260423T160734
CREATED:20220215T170010Z
LAST-MODIFIED:20220311T041538Z
UID:44703-1645617600-1645624800@nccashrae.org
SUMMARY:February PES Webinar
DESCRIPTION:NCC ASHRAE November Chapter Meeting Virtual PES\nPDH certificates will be provided for attending this event. \nTheme:  Research Promotion \nTopic: Leveraging Prefabrication through Design \nWhen: Wednesday\, November 6th\, 2024 \n\n12:00 PM - 1:00 PM EDT\n\nWhere: Virtual meeting link will be provided upon registration. \nAs a thank you to our membership\, PES tickets are FREE for NCC ASHRAE members. \n\n	\n\n\n	\n		\n			\n							Become a member and get your PES ticket for FREE!\n					\n\n	\n\n\n	\n		\n	\n\n\n	\n		\n	Professional Education Seminar (PES)\nLeveraging Prefabrication through Design\nOften installation methods aren’t discussed until a buildings construction phase. Such practices can produce significant scheduling delays and cost impacts. This presentation will discuss the needs during construction installation of MEPFP systems and the utilization of spooling and shop prefabrication during building design. Spooling and prefabrication efforts executed during design development produce accurate project scheduling\, effective MEPFP erection\, and safe installation practices. \n\n	\n\n\n\n			\n	\n	\n		\n	\n				\n					\n	\n	\n\n\n\n			\n	\n	\n		\n	Donnie Lawrence – Senior Project Constructability Lead - Southland Industries - Journeyman Steamfitter local 602\nAs Senior Project Constructability Lead\, Donald Lawrence has extensive experience in federal\, university\, healthcare\, and research facilities. His specific expertise focuses on managing assigned manpower and position resources to complete scheduled work\, managing RFIs and change orders to distribute all information to the team\, working with engineers and project managers on equipment selection\, and schedules\, and providing prefabrication opportunities during design and coordination. With over 21 years of experience\, Donald has worked on complex and confidential projects throughout the Mid-Atlantic region. \n\n	\n\n\n\n	\n\n	\n		\n	\n\n\n	\n		\n	Please note: The tickets below are ONLY for the Virtual PES.  \nDinner Presentation tickets must be purchased separately! \n\n	\n\n\n	\n		\n			\n							Click here to register for the November Dinner Presentation!
URL:https://nccashrae.org/event/2022-february-pes-webinar/
ATTACH;FMTTYPE=image/jpeg:https://nccashrae.org/wp-content/uploads/2022/02/Jim-Newman-0909-cropped-2-e1644947313550.jpg
END:VEVENT
BEGIN:VEVENT
DTSTART;TZID=America/New_York:20220119T120000
DTEND;TZID=America/New_York:20220119T140000
DTSTAMP:20260423T160734
CREATED:20220112T030101Z
LAST-MODIFIED:20220215T170116Z
UID:44071-1642593600-1642600800@nccashrae.org
SUMMARY:January PES Webinar
DESCRIPTION:NCC ASHRAE November Chapter Meeting Virtual PES\nPDH certificates will be provided for attending this event. \nTheme:  Research Promotion \nTopic: Leveraging Prefabrication through Design \nWhen: Wednesday\, November 6th\, 2024 \n\n12:00 PM - 1:00 PM EDT\n\nWhere: Virtual meeting link will be provided upon registration. \nAs a thank you to our membership\, PES tickets are FREE for NCC ASHRAE members. \n\n	\n\n\n	\n		\n			\n							Become a member and get your PES ticket for FREE!\n					\n\n	\n\n\n	\n		\n	\n\n\n	\n		\n	Professional Education Seminar (PES)\nLeveraging Prefabrication through Design\nOften installation methods aren’t discussed until a buildings construction phase. Such practices can produce significant scheduling delays and cost impacts. This presentation will discuss the needs during construction installation of MEPFP systems and the utilization of spooling and shop prefabrication during building design. Spooling and prefabrication efforts executed during design development produce accurate project scheduling\, effective MEPFP erection\, and safe installation practices. \n\n	\n\n\n\n			\n	\n	\n		\n	\n				\n					\n	\n	\n\n\n\n			\n	\n	\n		\n	Donnie Lawrence – Senior Project Constructability Lead - Southland Industries - Journeyman Steamfitter local 602\nAs Senior Project Constructability Lead\, Donald Lawrence has extensive experience in federal\, university\, healthcare\, and research facilities. His specific expertise focuses on managing assigned manpower and position resources to complete scheduled work\, managing RFIs and change orders to distribute all information to the team\, working with engineers and project managers on equipment selection\, and schedules\, and providing prefabrication opportunities during design and coordination. With over 21 years of experience\, Donald has worked on complex and confidential projects throughout the Mid-Atlantic region. \n\n	\n\n\n\n	\n\n	\n		\n	\n\n\n	\n		\n	Please note: The tickets below are ONLY for the Virtual PES.  \nDinner Presentation tickets must be purchased separately! \n\n	\n\n\n	\n		\n			\n							Click here to register for the November Dinner Presentation!
URL:https://nccashrae.org/event/2022-january-pes-webinar/
CATEGORIES:PES
ATTACH;FMTTYPE=image/jpeg:https://nccashrae.org/wp-content/uploads/2022/01/TPhoenixDesk3-1-e1641957170249.jpg
END:VEVENT
BEGIN:VEVENT
DTSTART;TZID=America/New_York:20211208T120000
DTEND;TZID=America/New_York:20211208T140000
DTSTAMP:20260423T160734
CREATED:20211115T143220Z
LAST-MODIFIED:20211207T034055Z
UID:43240-1638964800-1638972000@nccashrae.org
SUMMARY:December PES Webinar
DESCRIPTION:NCC ASHRAE November Chapter Meeting Virtual PES\nPDH certificates will be provided for attending this event. \nTheme:  Research Promotion \nTopic: Leveraging Prefabrication through Design \nWhen: Wednesday\, November 6th\, 2024 \n\n12:00 PM - 1:00 PM EDT\n\nWhere: Virtual meeting link will be provided upon registration. \nAs a thank you to our membership\, PES tickets are FREE for NCC ASHRAE members. \n\n	\n\n\n	\n		\n			\n							Become a member and get your PES ticket for FREE!\n					\n\n	\n\n\n	\n		\n	\n\n\n	\n		\n	Professional Education Seminar (PES)\nLeveraging Prefabrication through Design\nOften installation methods aren’t discussed until a buildings construction phase. Such practices can produce significant scheduling delays and cost impacts. This presentation will discuss the needs during construction installation of MEPFP systems and the utilization of spooling and shop prefabrication during building design. Spooling and prefabrication efforts executed during design development produce accurate project scheduling\, effective MEPFP erection\, and safe installation practices. \n\n	\n\n\n\n			\n	\n	\n		\n	\n				\n					\n	\n	\n\n\n\n			\n	\n	\n		\n	Donnie Lawrence – Senior Project Constructability Lead - Southland Industries - Journeyman Steamfitter local 602\nAs Senior Project Constructability Lead\, Donald Lawrence has extensive experience in federal\, university\, healthcare\, and research facilities. His specific expertise focuses on managing assigned manpower and position resources to complete scheduled work\, managing RFIs and change orders to distribute all information to the team\, working with engineers and project managers on equipment selection\, and schedules\, and providing prefabrication opportunities during design and coordination. With over 21 years of experience\, Donald has worked on complex and confidential projects throughout the Mid-Atlantic region. \n\n	\n\n\n\n	\n\n	\n		\n	\n\n\n	\n		\n	Please note: The tickets below are ONLY for the Virtual PES.  \nDinner Presentation tickets must be purchased separately! \n\n	\n\n\n	\n		\n			\n							Click here to register for the November Dinner Presentation!
URL:https://nccashrae.org/event/2021-december-pes-webinar/
CATEGORIES:PES
ATTACH;FMTTYPE=image/png:https://nccashrae.org/wp-content/uploads/2021/11/Ashrae-event-617-x-410-px.png
END:VEVENT
BEGIN:VEVENT
DTSTART;TZID=America/New_York:20211104T180000
DTEND;TZID=America/New_York:20211104T200000
DTSTAMP:20260423T160734
CREATED:20211013T152416Z
LAST-MODIFIED:20211104T153755Z
UID:41940-1636048800-1636056000@nccashrae.org
SUMMARY:YEA and WiA Fall Social
DESCRIPTION:NCC ASHRAE November Chapter Meeting Virtual PES\nPDH certificates will be provided for attending this event. \nTheme:  Research Promotion \nTopic: Leveraging Prefabrication through Design \nWhen: Wednesday\, November 6th\, 2024 \n\n12:00 PM - 1:00 PM EDT\n\nWhere: Virtual meeting link will be provided upon registration. \nAs a thank you to our membership\, PES tickets are FREE for NCC ASHRAE members. \n\n	\n\n\n	\n		\n			\n							Become a member and get your PES ticket for FREE!\n					\n\n	\n\n\n	\n		\n	\n\n\n	\n		\n	Professional Education Seminar (PES)\nLeveraging Prefabrication through Design\nOften installation methods aren’t discussed until a buildings construction phase. Such practices can produce significant scheduling delays and cost impacts. This presentation will discuss the needs during construction installation of MEPFP systems and the utilization of spooling and shop prefabrication during building design. Spooling and prefabrication efforts executed during design development produce accurate project scheduling\, effective MEPFP erection\, and safe installation practices. \n\n	\n\n\n\n			\n	\n	\n		\n	\n				\n					\n	\n	\n\n\n\n			\n	\n	\n		\n	Donnie Lawrence – Senior Project Constructability Lead - Southland Industries - Journeyman Steamfitter local 602\nAs Senior Project Constructability Lead\, Donald Lawrence has extensive experience in federal\, university\, healthcare\, and research facilities. His specific expertise focuses on managing assigned manpower and position resources to complete scheduled work\, managing RFIs and change orders to distribute all information to the team\, working with engineers and project managers on equipment selection\, and schedules\, and providing prefabrication opportunities during design and coordination. With over 21 years of experience\, Donald has worked on complex and confidential projects throughout the Mid-Atlantic region. \n\n	\n\n\n\n	\n\n	\n		\n	\n\n\n	\n		\n	Please note: The tickets below are ONLY for the Virtual PES.  \nDinner Presentation tickets must be purchased separately! \n\n	\n\n\n	\n		\n			\n							Click here to register for the November Dinner Presentation!
URL:https://nccashrae.org/event/2021-yea-and-wia-fall-social/
ATTACH;FMTTYPE=image/jpeg:https://nccashrae.org/wp-content/uploads/2021/10/21-fall-social.jpg
END:VEVENT
BEGIN:VEVENT
DTSTART;TZID=America/New_York:20211027T120000
DTEND;TZID=America/New_York:20211027T140000
DTSTAMP:20260423T160734
CREATED:20210930T034945Z
LAST-MODIFIED:20211026T131843Z
UID:40872-1635336000-1635343200@nccashrae.org
SUMMARY:October PES Webinar
DESCRIPTION:NCC ASHRAE November Chapter Meeting Virtual PES\nPDH certificates will be provided for attending this event. \nTheme:  Research Promotion \nTopic: Leveraging Prefabrication through Design \nWhen: Wednesday\, November 6th\, 2024 \n\n12:00 PM - 1:00 PM EDT\n\nWhere: Virtual meeting link will be provided upon registration. \nAs a thank you to our membership\, PES tickets are FREE for NCC ASHRAE members. \n\n	\n\n\n	\n		\n			\n							Become a member and get your PES ticket for FREE!\n					\n\n	\n\n\n	\n		\n	\n\n\n	\n		\n	Professional Education Seminar (PES)\nLeveraging Prefabrication through Design\nOften installation methods aren’t discussed until a buildings construction phase. Such practices can produce significant scheduling delays and cost impacts. This presentation will discuss the needs during construction installation of MEPFP systems and the utilization of spooling and shop prefabrication during building design. Spooling and prefabrication efforts executed during design development produce accurate project scheduling\, effective MEPFP erection\, and safe installation practices. \n\n	\n\n\n\n			\n	\n	\n		\n	\n				\n					\n	\n	\n\n\n\n			\n	\n	\n		\n	Donnie Lawrence – Senior Project Constructability Lead - Southland Industries - Journeyman Steamfitter local 602\nAs Senior Project Constructability Lead\, Donald Lawrence has extensive experience in federal\, university\, healthcare\, and research facilities. His specific expertise focuses on managing assigned manpower and position resources to complete scheduled work\, managing RFIs and change orders to distribute all information to the team\, working with engineers and project managers on equipment selection\, and schedules\, and providing prefabrication opportunities during design and coordination. With over 21 years of experience\, Donald has worked on complex and confidential projects throughout the Mid-Atlantic region. \n\n	\n\n\n\n	\n\n	\n		\n	\n\n\n	\n		\n	Please note: The tickets below are ONLY for the Virtual PES.  \nDinner Presentation tickets must be purchased separately! \n\n	\n\n\n	\n		\n			\n							Click here to register for the November Dinner Presentation!
URL:https://nccashrae.org/event/2021-october-pes-webinar/
CATEGORIES:PES
ATTACH;FMTTYPE=image/png:https://nccashrae.org/wp-content/uploads/2021/09/ASHRAE-pic.png
END:VEVENT
BEGIN:VEVENT
DTSTART;TZID=America/New_York:20210922T120000
DTEND;TZID=America/New_York:20210922T140000
DTSTAMP:20260423T160734
CREATED:20210921T202047Z
LAST-MODIFIED:20211014T164545Z
UID:40812-1632312000-1632319200@nccashrae.org
SUMMARY:September 2021 - PES Webinar
DESCRIPTION:NCC ASHRAE November Chapter Meeting Virtual PES\nPDH certificates will be provided for attending this event. \nTheme:  Research Promotion \nTopic: Leveraging Prefabrication through Design \nWhen: Wednesday\, November 6th\, 2024 \n\n12:00 PM - 1:00 PM EDT\n\nWhere: Virtual meeting link will be provided upon registration. \nAs a thank you to our membership\, PES tickets are FREE for NCC ASHRAE members. \n\n	\n\n\n	\n		\n			\n							Become a member and get your PES ticket for FREE!\n					\n\n	\n\n\n	\n		\n	\n\n\n	\n		\n	Professional Education Seminar (PES)\nLeveraging Prefabrication through Design\nOften installation methods aren’t discussed until a buildings construction phase. Such practices can produce significant scheduling delays and cost impacts. This presentation will discuss the needs during construction installation of MEPFP systems and the utilization of spooling and shop prefabrication during building design. Spooling and prefabrication efforts executed during design development produce accurate project scheduling\, effective MEPFP erection\, and safe installation practices. \n\n	\n\n\n\n			\n	\n	\n		\n	\n				\n					\n	\n	\n\n\n\n			\n	\n	\n		\n	Donnie Lawrence – Senior Project Constructability Lead - Southland Industries - Journeyman Steamfitter local 602\nAs Senior Project Constructability Lead\, Donald Lawrence has extensive experience in federal\, university\, healthcare\, and research facilities. His specific expertise focuses on managing assigned manpower and position resources to complete scheduled work\, managing RFIs and change orders to distribute all information to the team\, working with engineers and project managers on equipment selection\, and schedules\, and providing prefabrication opportunities during design and coordination. With over 21 years of experience\, Donald has worked on complex and confidential projects throughout the Mid-Atlantic region. \n\n	\n\n\n\n	\n\n	\n		\n	\n\n\n	\n		\n	Please note: The tickets below are ONLY for the Virtual PES.  \nDinner Presentation tickets must be purchased separately! \n\n	\n\n\n	\n		\n			\n							Click here to register for the November Dinner Presentation!
URL:https://nccashrae.org/event/2021-september-pes-webinar/
ATTACH;FMTTYPE=image/png:https://nccashrae.org/wp-content/uploads/2021/09/PMurphy-headshot.png
END:VEVENT
END:VCALENDAR