BEGIN:VCALENDAR
VERSION:2.0
PRODID:-//NCC ASHRAE - ECPv6.15.20//NONSGML v1.0//EN
CALSCALE:GREGORIAN
METHOD:PUBLISH
X-ORIGINAL-URL:https://nccashrae.org
X-WR-CALDESC:Events for NCC ASHRAE
REFRESH-INTERVAL;VALUE=DURATION:PT1H
X-Robots-Tag:noindex
X-PUBLISHED-TTL:PT1H
BEGIN:VTIMEZONE
TZID:America/New_York
BEGIN:DAYLIGHT
TZOFFSETFROM:-0500
TZOFFSETTO:-0400
TZNAME:EDT
DTSTART:20250309T070000
END:DAYLIGHT
BEGIN:STANDARD
TZOFFSETFROM:-0400
TZOFFSETTO:-0500
TZNAME:EST
DTSTART:20251102T060000
END:STANDARD
BEGIN:DAYLIGHT
TZOFFSETFROM:-0500
TZOFFSETTO:-0400
TZNAME:EDT
DTSTART:20260308T070000
END:DAYLIGHT
BEGIN:STANDARD
TZOFFSETFROM:-0400
TZOFFSETTO:-0500
TZNAME:EST
DTSTART:20261101T060000
END:STANDARD
BEGIN:DAYLIGHT
TZOFFSETFROM:-0500
TZOFFSETTO:-0400
TZNAME:EDT
DTSTART:20270314T070000
END:DAYLIGHT
BEGIN:STANDARD
TZOFFSETFROM:-0400
TZOFFSETTO:-0500
TZNAME:EST
DTSTART:20271107T060000
END:STANDARD
END:VTIMEZONE
BEGIN:VEVENT
DTSTART;TZID=America/New_York:20260614T080000
DTEND;TZID=America/New_York:20260614T213000
DTSTAMP:20260423T061446
CREATED:20260415T205904Z
LAST-MODIFIED:20260415T205904Z
UID:114066-1781424000-1781472600@nccashrae.org
SUMMARY:Run for Research 5k 2026
DESCRIPTION:NCC ASHRAE November Chapter Meeting Virtual PES\nPDH certificates will be provided for attending this event. \nTheme:  Research Promotion \nTopic: Leveraging Prefabrication through Design \nWhen: Wednesday\, November 6th\, 2024 \n\n12:00 PM - 1:00 PM EDT\n\nWhere: Virtual meeting link will be provided upon registration. \nAs a thank you to our membership\, PES tickets are FREE for NCC ASHRAE members. \n\n	\n\n\n	\n		\n			\n							Become a member and get your PES ticket for FREE!\n					\n\n	\n\n\n	\n		\n	\n\n\n	\n		\n	Professional Education Seminar (PES)\nLeveraging Prefabrication through Design\nOften installation methods aren’t discussed until a buildings construction phase. Such practices can produce significant scheduling delays and cost impacts. This presentation will discuss the needs during construction installation of MEPFP systems and the utilization of spooling and shop prefabrication during building design. Spooling and prefabrication efforts executed during design development produce accurate project scheduling\, effective MEPFP erection\, and safe installation practices. \n\n	\n\n\n\n			\n	\n	\n		\n	\n				\n					\n	\n	\n\n\n\n			\n	\n	\n		\n	Donnie Lawrence – Senior Project Constructability Lead - Southland Industries - Journeyman Steamfitter local 602\nAs Senior Project Constructability Lead\, Donald Lawrence has extensive experience in federal\, university\, healthcare\, and research facilities. His specific expertise focuses on managing assigned manpower and position resources to complete scheduled work\, managing RFIs and change orders to distribute all information to the team\, working with engineers and project managers on equipment selection\, and schedules\, and providing prefabrication opportunities during design and coordination. With over 21 years of experience\, Donald has worked on complex and confidential projects throughout the Mid-Atlantic region. \n\n	\n\n\n\n	\n\n	\n		\n	\n\n\n	\n		\n	Please note: The tickets below are ONLY for the Virtual PES.  \nDinner Presentation tickets must be purchased separately! \n\n	\n\n\n	\n		\n			\n							Click here to register for the November Dinner Presentation!
URL:https://nccashrae.org/event/run-for-research-5k-2026/
END:VEVENT
BEGIN:VEVENT
DTSTART;VALUE=DATE:20260813
DTEND;VALUE=DATE:20260816
DTSTAMP:20260423T061446
CREATED:20250815T133501Z
LAST-MODIFIED:20260422T200001Z
UID:92231-1786579200-1786838399@nccashrae.org
SUMMARY:2026 ASHRAE Region III CRC
DESCRIPTION:NCC ASHRAE November Chapter Meeting Virtual PES\nPDH certificates will be provided for attending this event. \nTheme:  Research Promotion \nTopic: Leveraging Prefabrication through Design \nWhen: Wednesday\, November 6th\, 2024 \n\n12:00 PM - 1:00 PM EDT\n\nWhere: Virtual meeting link will be provided upon registration. \nAs a thank you to our membership\, PES tickets are FREE for NCC ASHRAE members. \n\n	\n\n\n	\n		\n			\n							Become a member and get your PES ticket for FREE!\n					\n\n	\n\n\n	\n		\n	\n\n\n	\n		\n	Professional Education Seminar (PES)\nLeveraging Prefabrication through Design\nOften installation methods aren’t discussed until a buildings construction phase. Such practices can produce significant scheduling delays and cost impacts. This presentation will discuss the needs during construction installation of MEPFP systems and the utilization of spooling and shop prefabrication during building design. Spooling and prefabrication efforts executed during design development produce accurate project scheduling\, effective MEPFP erection\, and safe installation practices. \n\n	\n\n\n\n			\n	\n	\n		\n	\n				\n					\n	\n	\n\n\n\n			\n	\n	\n		\n	Donnie Lawrence – Senior Project Constructability Lead - Southland Industries - Journeyman Steamfitter local 602\nAs Senior Project Constructability Lead\, Donald Lawrence has extensive experience in federal\, university\, healthcare\, and research facilities. His specific expertise focuses on managing assigned manpower and position resources to complete scheduled work\, managing RFIs and change orders to distribute all information to the team\, working with engineers and project managers on equipment selection\, and schedules\, and providing prefabrication opportunities during design and coordination. With over 21 years of experience\, Donald has worked on complex and confidential projects throughout the Mid-Atlantic region. \n\n	\n\n\n\n	\n\n	\n		\n	\n\n\n	\n		\n	Please note: The tickets below are ONLY for the Virtual PES.  \nDinner Presentation tickets must be purchased separately! \n\n	\n\n\n	\n		\n			\n							Click here to register for the November Dinner Presentation!
URL:https://nccashrae.org/event/2026-ashrae-region-iii-crc/
CATEGORIES:CRC
END:VEVENT
BEGIN:VEVENT
DTSTART;VALUE=DATE:20260813
DTEND;VALUE=DATE:20260816
DTSTAMP:20260423T061446
CREATED:20260422T200005Z
LAST-MODIFIED:20260422T200005Z
UID:114277-1786579200-1786838399@nccashrae.org
SUMMARY:Additional Events and Activities
DESCRIPTION:NCC ASHRAE November Chapter Meeting Virtual PES\nPDH certificates will be provided for attending this event. \nTheme:  Research Promotion \nTopic: Leveraging Prefabrication through Design \nWhen: Wednesday\, November 6th\, 2024 \n\n12:00 PM - 1:00 PM EDT\n\nWhere: Virtual meeting link will be provided upon registration. \nAs a thank you to our membership\, PES tickets are FREE for NCC ASHRAE members. \n\n	\n\n\n	\n		\n			\n							Become a member and get your PES ticket for FREE!\n					\n\n	\n\n\n	\n		\n	\n\n\n	\n		\n	Professional Education Seminar (PES)\nLeveraging Prefabrication through Design\nOften installation methods aren’t discussed until a buildings construction phase. Such practices can produce significant scheduling delays and cost impacts. This presentation will discuss the needs during construction installation of MEPFP systems and the utilization of spooling and shop prefabrication during building design. Spooling and prefabrication efforts executed during design development produce accurate project scheduling\, effective MEPFP erection\, and safe installation practices. \n\n	\n\n\n\n			\n	\n	\n		\n	\n				\n					\n	\n	\n\n\n\n			\n	\n	\n		\n	Donnie Lawrence – Senior Project Constructability Lead - Southland Industries - Journeyman Steamfitter local 602\nAs Senior Project Constructability Lead\, Donald Lawrence has extensive experience in federal\, university\, healthcare\, and research facilities. His specific expertise focuses on managing assigned manpower and position resources to complete scheduled work\, managing RFIs and change orders to distribute all information to the team\, working with engineers and project managers on equipment selection\, and schedules\, and providing prefabrication opportunities during design and coordination. With over 21 years of experience\, Donald has worked on complex and confidential projects throughout the Mid-Atlantic region. \n\n	\n\n\n\n	\n\n	\n		\n	\n\n\n	\n		\n	Please note: The tickets below are ONLY for the Virtual PES.  \nDinner Presentation tickets must be purchased separately! \n\n	\n\n\n	\n		\n			\n							Click here to register for the November Dinner Presentation!
URL:https://nccashrae.org/event/additional-events-and-activities/
END:VEVENT
BEGIN:VEVENT
DTSTART;VALUE=DATE:20260813
DTEND;VALUE=DATE:20260816
DTSTAMP:20260423T061446
CREATED:20260422T200012Z
LAST-MODIFIED:20260422T200012Z
UID:114246-1786579200-1786838399@nccashrae.org
SUMMARY:CRC Add-ons
DESCRIPTION:NCC ASHRAE November Chapter Meeting Virtual PES\nPDH certificates will be provided for attending this event. \nTheme:  Research Promotion \nTopic: Leveraging Prefabrication through Design \nWhen: Wednesday\, November 6th\, 2024 \n\n12:00 PM - 1:00 PM EDT\n\nWhere: Virtual meeting link will be provided upon registration. \nAs a thank you to our membership\, PES tickets are FREE for NCC ASHRAE members. \n\n	\n\n\n	\n		\n			\n							Become a member and get your PES ticket for FREE!\n					\n\n	\n\n\n	\n		\n	\n\n\n	\n		\n	Professional Education Seminar (PES)\nLeveraging Prefabrication through Design\nOften installation methods aren’t discussed until a buildings construction phase. Such practices can produce significant scheduling delays and cost impacts. This presentation will discuss the needs during construction installation of MEPFP systems and the utilization of spooling and shop prefabrication during building design. Spooling and prefabrication efforts executed during design development produce accurate project scheduling\, effective MEPFP erection\, and safe installation practices. \n\n	\n\n\n\n			\n	\n	\n		\n	\n				\n					\n	\n	\n\n\n\n			\n	\n	\n		\n	Donnie Lawrence – Senior Project Constructability Lead - Southland Industries - Journeyman Steamfitter local 602\nAs Senior Project Constructability Lead\, Donald Lawrence has extensive experience in federal\, university\, healthcare\, and research facilities. His specific expertise focuses on managing assigned manpower and position resources to complete scheduled work\, managing RFIs and change orders to distribute all information to the team\, working with engineers and project managers on equipment selection\, and schedules\, and providing prefabrication opportunities during design and coordination. With over 21 years of experience\, Donald has worked on complex and confidential projects throughout the Mid-Atlantic region. \n\n	\n\n\n\n	\n\n	\n		\n	\n\n\n	\n		\n	Please note: The tickets below are ONLY for the Virtual PES.  \nDinner Presentation tickets must be purchased separately! \n\n	\n\n\n	\n		\n			\n							Click here to register for the November Dinner Presentation!
URL:https://nccashrae.org/event/crc-add-ons/
CATEGORIES:CRC
END:VEVENT
END:VCALENDAR