BEGIN:VCALENDAR
VERSION:2.0
PRODID:-//NCC ASHRAE - ECPv6.15.20//NONSGML v1.0//EN
CALSCALE:GREGORIAN
METHOD:PUBLISH
X-WR-CALNAME:NCC ASHRAE
X-ORIGINAL-URL:https://nccashrae.org
X-WR-CALDESC:Events for NCC ASHRAE
REFRESH-INTERVAL;VALUE=DURATION:PT1H
X-Robots-Tag:noindex
X-PUBLISHED-TTL:PT1H
BEGIN:VTIMEZONE
TZID:America/New_York
BEGIN:DAYLIGHT
TZOFFSETFROM:-0500
TZOFFSETTO:-0400
TZNAME:EDT
DTSTART:20250309T070000
END:DAYLIGHT
BEGIN:STANDARD
TZOFFSETFROM:-0400
TZOFFSETTO:-0500
TZNAME:EST
DTSTART:20251102T060000
END:STANDARD
BEGIN:DAYLIGHT
TZOFFSETFROM:-0500
TZOFFSETTO:-0400
TZNAME:EDT
DTSTART:20260308T070000
END:DAYLIGHT
BEGIN:STANDARD
TZOFFSETFROM:-0400
TZOFFSETTO:-0500
TZNAME:EST
DTSTART:20261101T060000
END:STANDARD
BEGIN:DAYLIGHT
TZOFFSETFROM:-0500
TZOFFSETTO:-0400
TZNAME:EDT
DTSTART:20270314T070000
END:DAYLIGHT
BEGIN:STANDARD
TZOFFSETFROM:-0400
TZOFFSETTO:-0500
TZNAME:EST
DTSTART:20271107T060000
END:STANDARD
END:VTIMEZONE
BEGIN:VEVENT
DTSTART;TZID=America/New_York:20260224T120000
DTEND;TZID=America/New_York:20260224T130000
DTSTAMP:20260423T061241
CREATED:20260213T141244Z
LAST-MODIFIED:20260217T134629Z
UID:97892-1771934400-1771938000@nccashrae.org
SUMMARY:Government Affairs Lunch and Learn 2/24/26
DESCRIPTION:           \n\nEarth Day Volunteering:\nInvasive Kudzu Removal on the Mount Vernon Trail\nThe Friends of Mount Vernon Trail will be improving the trail by removing invasive kudzu vines that are killing nearby trees and constantly growing over the trail. \nWhen:\nSunday\, April 21 · 10am - 12pm \nVolunteers will be:\nUsing pruners and loppers to remove invasive vines &\nHauling away vegetation and fallen tree branches \nWhat to Bring:\nWater\nGloves (they will have some to borrow)\nLong sleeves and long pants \nWhere to Meet:\nThe work area is on the Mount Vernon Trail just north of Old Town. We will meet on the trail. See the picture for walking directions from the nearest address:\n1198 N Fairfax Street\, Alexandria\, VA 22314 \n \n  \n 
URL:https://nccashrae.org/event/government-affairs-lunch-and-learn-2-24-26/
LOCATION:VA
END:VEVENT
BEGIN:VEVENT
DTSTART;TZID=America/New_York:20260325T120000
DTEND;TZID=America/New_York:20260325T130000
DTSTAMP:20260423T061241
CREATED:20260311T145513Z
LAST-MODIFIED:20260324T130345Z
UID:99314-1774440000-1774443600@nccashrae.org
SUMMARY:March 2026 Chapter Meeting PES (Virtual)
DESCRIPTION:           \n\nEarth Day Volunteering:\nInvasive Kudzu Removal on the Mount Vernon Trail\nThe Friends of Mount Vernon Trail will be improving the trail by removing invasive kudzu vines that are killing nearby trees and constantly growing over the trail. \nWhen:\nSunday\, April 21 · 10am - 12pm \nVolunteers will be:\nUsing pruners and loppers to remove invasive vines &\nHauling away vegetation and fallen tree branches \nWhat to Bring:\nWater\nGloves (they will have some to borrow)\nLong sleeves and long pants \nWhere to Meet:\nThe work area is on the Mount Vernon Trail just north of Old Town. We will meet on the trail. See the picture for walking directions from the nearest address:\n1198 N Fairfax Street\, Alexandria\, VA 22314 \n \n  \n 
URL:https://nccashrae.org/event/march-chapter-meeting-2025-pes-virtual/
LOCATION:VA
END:VEVENT
BEGIN:VEVENT
DTSTART;TZID=America/New_York:20260325T173000
DTEND;TZID=America/New_York:20260325T203000
DTSTAMP:20260423T061241
CREATED:20260311T143416Z
LAST-MODIFIED:20260324T125430Z
UID:99304-1774459800-1774470600@nccashrae.org
SUMMARY:March 2026 Chapter Meeting Dinner Presentation (In-Person)
DESCRIPTION:           \n\nEarth Day Volunteering:\nInvasive Kudzu Removal on the Mount Vernon Trail\nThe Friends of Mount Vernon Trail will be improving the trail by removing invasive kudzu vines that are killing nearby trees and constantly growing over the trail. \nWhen:\nSunday\, April 21 · 10am - 12pm \nVolunteers will be:\nUsing pruners and loppers to remove invasive vines &\nHauling away vegetation and fallen tree branches \nWhat to Bring:\nWater\nGloves (they will have some to borrow)\nLong sleeves and long pants \nWhere to Meet:\nThe work area is on the Mount Vernon Trail just north of Old Town. We will meet on the trail. See the picture for walking directions from the nearest address:\n1198 N Fairfax Street\, Alexandria\, VA 22314 \n \n  \n 
URL:https://nccashrae.org/event/march-2026-chapter-meeting-dinner-presentation-in-person/
LOCATION:Liberty Tavern\, 3195 Wilson Blvd\, Arlington\, 22201\, United States
END:VEVENT
BEGIN:VEVENT
DTSTART;TZID=America/New_York:20260401T000000
DTEND;TZID=America/New_York:20260601T233000
DTSTAMP:20260423T061241
CREATED:20260126T180536Z
LAST-MODIFIED:20260126T180536Z
UID:97279-1775001600-1780356600@nccashrae.org
SUMMARY:Tech Awards 2026
DESCRIPTION:           \n\nEarth Day Volunteering:\nInvasive Kudzu Removal on the Mount Vernon Trail\nThe Friends of Mount Vernon Trail will be improving the trail by removing invasive kudzu vines that are killing nearby trees and constantly growing over the trail. \nWhen:\nSunday\, April 21 · 10am - 12pm \nVolunteers will be:\nUsing pruners and loppers to remove invasive vines &\nHauling away vegetation and fallen tree branches \nWhat to Bring:\nWater\nGloves (they will have some to borrow)\nLong sleeves and long pants \nWhere to Meet:\nThe work area is on the Mount Vernon Trail just north of Old Town. We will meet on the trail. See the picture for walking directions from the nearest address:\n1198 N Fairfax Street\, Alexandria\, VA 22314 \n \n  \n 
URL:https://nccashrae.org/event/tech-awards-2026/
LOCATION:VA
END:VEVENT
BEGIN:VEVENT
DTSTART;TZID=America/New_York:20260415T173000
DTEND;TZID=America/New_York:20260415T203000
DTSTAMP:20260423T061241
CREATED:20260408T152433Z
LAST-MODIFIED:20260408T152543Z
UID:112419-1776274200-1776285000@nccashrae.org
SUMMARY:April 2026 Chapter Meeting Dinner Presentation (In-Person)
DESCRIPTION:           \n\nEarth Day Volunteering:\nInvasive Kudzu Removal on the Mount Vernon Trail\nThe Friends of Mount Vernon Trail will be improving the trail by removing invasive kudzu vines that are killing nearby trees and constantly growing over the trail. \nWhen:\nSunday\, April 21 · 10am - 12pm \nVolunteers will be:\nUsing pruners and loppers to remove invasive vines &\nHauling away vegetation and fallen tree branches \nWhat to Bring:\nWater\nGloves (they will have some to borrow)\nLong sleeves and long pants \nWhere to Meet:\nThe work area is on the Mount Vernon Trail just north of Old Town. We will meet on the trail. See the picture for walking directions from the nearest address:\n1198 N Fairfax Street\, Alexandria\, VA 22314 \n \n  \n 
URL:https://nccashrae.org/event/april-2026-chapter-meeting-dinner-presentation-in-person/
LOCATION:The Hall CP\, 4656 Hotel Drive\, College Park\, MD\, 20742\, United States
END:VEVENT
BEGIN:VEVENT
DTSTART;TZID=America/New_York:20260430T173000
DTEND;TZID=America/New_York:20260430T203000
DTSTAMP:20260423T061241
CREATED:20260325T121642Z
LAST-MODIFIED:20260325T121642Z
UID:110891-1777570200-1777581000@nccashrae.org
SUMMARY:YEA Board Room Happy Hour
DESCRIPTION:           \n\nEarth Day Volunteering:\nInvasive Kudzu Removal on the Mount Vernon Trail\nThe Friends of Mount Vernon Trail will be improving the trail by removing invasive kudzu vines that are killing nearby trees and constantly growing over the trail. \nWhen:\nSunday\, April 21 · 10am - 12pm \nVolunteers will be:\nUsing pruners and loppers to remove invasive vines &\nHauling away vegetation and fallen tree branches \nWhat to Bring:\nWater\nGloves (they will have some to borrow)\nLong sleeves and long pants \nWhere to Meet:\nThe work area is on the Mount Vernon Trail just north of Old Town. We will meet on the trail. See the picture for walking directions from the nearest address:\n1198 N Fairfax Street\, Alexandria\, VA 22314 \n \n  \n 
URL:https://nccashrae.org/event/yea-professional-headshot-social-w-dbia-copy/
LOCATION:The Board Room\, 925 N Garfield St\, Arlington\, 22201\, United States
CATEGORIES:YEA
ORGANIZER;CN="Young Engineers in ASHRAE (YEA)":MAILTO:yea@nccashrae.org
END:VEVENT
BEGIN:VEVENT
DTSTART;TZID=America/New_York:20260527T080000
DTEND;TZID=America/New_York:20260527T170000
DTSTAMP:20260423T061241
CREATED:20260415T204617Z
LAST-MODIFIED:20260415T204617Z
UID:112204-1779868800-1779901200@nccashrae.org
SUMMARY:2026 ASHRAE Golf Tournament
DESCRIPTION:           \n\nEarth Day Volunteering:\nInvasive Kudzu Removal on the Mount Vernon Trail\nThe Friends of Mount Vernon Trail will be improving the trail by removing invasive kudzu vines that are killing nearby trees and constantly growing over the trail. \nWhen:\nSunday\, April 21 · 10am - 12pm \nVolunteers will be:\nUsing pruners and loppers to remove invasive vines &\nHauling away vegetation and fallen tree branches \nWhat to Bring:\nWater\nGloves (they will have some to borrow)\nLong sleeves and long pants \nWhere to Meet:\nThe work area is on the Mount Vernon Trail just north of Old Town. We will meet on the trail. See the picture for walking directions from the nearest address:\n1198 N Fairfax Street\, Alexandria\, VA 22314 \n \n  \n 
URL:https://nccashrae.org/event/2026-ashrae-golf-tournament/
LOCATION:VA
END:VEVENT
BEGIN:VEVENT
DTSTART;TZID=America/New_York:20260614T080000
DTEND;TZID=America/New_York:20260614T213000
DTSTAMP:20260423T061241
CREATED:20260415T205904Z
LAST-MODIFIED:20260415T205904Z
UID:114066-1781424000-1781472600@nccashrae.org
SUMMARY:Run for Research 5k 2026
DESCRIPTION:           \n\nEarth Day Volunteering:\nInvasive Kudzu Removal on the Mount Vernon Trail\nThe Friends of Mount Vernon Trail will be improving the trail by removing invasive kudzu vines that are killing nearby trees and constantly growing over the trail. \nWhen:\nSunday\, April 21 · 10am - 12pm \nVolunteers will be:\nUsing pruners and loppers to remove invasive vines &\nHauling away vegetation and fallen tree branches \nWhat to Bring:\nWater\nGloves (they will have some to borrow)\nLong sleeves and long pants \nWhere to Meet:\nThe work area is on the Mount Vernon Trail just north of Old Town. We will meet on the trail. See the picture for walking directions from the nearest address:\n1198 N Fairfax Street\, Alexandria\, VA 22314 \n \n  \n 
URL:https://nccashrae.org/event/run-for-research-5k-2026/
LOCATION:VA
END:VEVENT
BEGIN:VEVENT
DTSTART;VALUE=DATE:20260813
DTEND;VALUE=DATE:20260816
DTSTAMP:20260423T061241
CREATED:20250815T133501Z
LAST-MODIFIED:20260422T200001Z
UID:92231-1786579200-1786838399@nccashrae.org
SUMMARY:2026 ASHRAE Region III CRC
DESCRIPTION:           \n\nEarth Day Volunteering:\nInvasive Kudzu Removal on the Mount Vernon Trail\nThe Friends of Mount Vernon Trail will be improving the trail by removing invasive kudzu vines that are killing nearby trees and constantly growing over the trail. \nWhen:\nSunday\, April 21 · 10am - 12pm \nVolunteers will be:\nUsing pruners and loppers to remove invasive vines &\nHauling away vegetation and fallen tree branches \nWhat to Bring:\nWater\nGloves (they will have some to borrow)\nLong sleeves and long pants \nWhere to Meet:\nThe work area is on the Mount Vernon Trail just north of Old Town. We will meet on the trail. See the picture for walking directions from the nearest address:\n1198 N Fairfax Street\, Alexandria\, VA 22314 \n \n  \n 
URL:https://nccashrae.org/event/2026-ashrae-region-iii-crc/
LOCATION:VA
CATEGORIES:CRC
END:VEVENT
BEGIN:VEVENT
DTSTART;VALUE=DATE:20260813
DTEND;VALUE=DATE:20260816
DTSTAMP:20260423T061241
CREATED:20260422T200005Z
LAST-MODIFIED:20260422T200005Z
UID:114277-1786579200-1786838399@nccashrae.org
SUMMARY:Additional Events and Activities
DESCRIPTION:           \n\nEarth Day Volunteering:\nInvasive Kudzu Removal on the Mount Vernon Trail\nThe Friends of Mount Vernon Trail will be improving the trail by removing invasive kudzu vines that are killing nearby trees and constantly growing over the trail. \nWhen:\nSunday\, April 21 · 10am - 12pm \nVolunteers will be:\nUsing pruners and loppers to remove invasive vines &\nHauling away vegetation and fallen tree branches \nWhat to Bring:\nWater\nGloves (they will have some to borrow)\nLong sleeves and long pants \nWhere to Meet:\nThe work area is on the Mount Vernon Trail just north of Old Town. We will meet on the trail. See the picture for walking directions from the nearest address:\n1198 N Fairfax Street\, Alexandria\, VA 22314 \n \n  \n 
URL:https://nccashrae.org/event/additional-events-and-activities/
LOCATION:VA
END:VEVENT
BEGIN:VEVENT
DTSTART;VALUE=DATE:20260813
DTEND;VALUE=DATE:20260816
DTSTAMP:20260423T061241
CREATED:20260422T200012Z
LAST-MODIFIED:20260422T200012Z
UID:114246-1786579200-1786838399@nccashrae.org
SUMMARY:CRC Add-ons
DESCRIPTION:           \n\nEarth Day Volunteering:\nInvasive Kudzu Removal on the Mount Vernon Trail\nThe Friends of Mount Vernon Trail will be improving the trail by removing invasive kudzu vines that are killing nearby trees and constantly growing over the trail. \nWhen:\nSunday\, April 21 · 10am - 12pm \nVolunteers will be:\nUsing pruners and loppers to remove invasive vines &\nHauling away vegetation and fallen tree branches \nWhat to Bring:\nWater\nGloves (they will have some to borrow)\nLong sleeves and long pants \nWhere to Meet:\nThe work area is on the Mount Vernon Trail just north of Old Town. We will meet on the trail. See the picture for walking directions from the nearest address:\n1198 N Fairfax Street\, Alexandria\, VA 22314 \n \n  \n 
URL:https://nccashrae.org/event/crc-add-ons/
LOCATION:VA
CATEGORIES:CRC
END:VEVENT
END:VCALENDAR