BEGIN:VCALENDAR
VERSION:2.0
PRODID:-//NCC ASHRAE - ECPv6.15.20//NONSGML v1.0//EN
CALSCALE:GREGORIAN
METHOD:PUBLISH
X-WR-CALNAME:NCC ASHRAE
X-ORIGINAL-URL:https://nccashrae.org
X-WR-CALDESC:Events for NCC ASHRAE
REFRESH-INTERVAL;VALUE=DURATION:PT1H
X-Robots-Tag:noindex
X-PUBLISHED-TTL:PT1H
BEGIN:VTIMEZONE
TZID:America/New_York
BEGIN:DAYLIGHT
TZOFFSETFROM:-0500
TZOFFSETTO:-0400
TZNAME:EDT
DTSTART:20200308T070000
END:DAYLIGHT
BEGIN:STANDARD
TZOFFSETFROM:-0400
TZOFFSETTO:-0500
TZNAME:EST
DTSTART:20201101T060000
END:STANDARD
BEGIN:DAYLIGHT
TZOFFSETFROM:-0500
TZOFFSETTO:-0400
TZNAME:EDT
DTSTART:20210314T070000
END:DAYLIGHT
BEGIN:STANDARD
TZOFFSETFROM:-0400
TZOFFSETTO:-0500
TZNAME:EST
DTSTART:20211107T060000
END:STANDARD
BEGIN:DAYLIGHT
TZOFFSETFROM:-0500
TZOFFSETTO:-0400
TZNAME:EDT
DTSTART:20220313T070000
END:DAYLIGHT
BEGIN:STANDARD
TZOFFSETFROM:-0400
TZOFFSETTO:-0500
TZNAME:EST
DTSTART:20221106T060000
END:STANDARD
END:VTIMEZONE
BEGIN:VEVENT
DTSTART;TZID=America/New_York:20210922T120000
DTEND;TZID=America/New_York:20210922T140000
DTSTAMP:20260419T230735
CREATED:20210921T202047Z
LAST-MODIFIED:20211014T164545Z
UID:40812-1632312000-1632319200@nccashrae.org
SUMMARY:September 2021 - PES Webinar
DESCRIPTION:Professional Education Seminar (PES) WebinarTopic: Electrification and Decarbonization of the Built Environment-Speakers: Patrick Murphy\, PE\, LEED AP BD+C\, CPHC\, Associate Principal | Director of Sustainable Design\, R.G. Vanderweil Engineers\, LLP \n  \n  \n\nIntroduction by Patti Gunderson\, Building Science Research Engineer\, Pacific Northwest National Laboratory\nMain Speaker: Patrick Murphy\, PE\, LEED AP BD+C\, CPHC\, Associate Principal | Director of Sustainable Design\, R.G. Vanderweil Engineers\, LLP\n\n  \nA growing number of universities\, corporations\, cities and states are establishing carbon neutrality and carbon emissions reduction goals for the coming 20-30 years. Given that major new construction and renovation projects will be operational during this period\, designs for these projects need to aggressively reduce emissions and/or be ready for net zero emissions during their lifespan in order for these institutions to achieve their emissions goals. The key to achieving these strategies is the elimination of direct fossil fuel emissions from building operations through the electrification of building energy systems\, and leveraging growing sources of clean\, renewable electricity. \n \nPatrick Murphy As Director of Sustainable Design for Vanderweil Engineers\, Patrick is leveraging his passion and experience in sustainable\, integrated\, and innovative building design to inform designs through rigorous energy and water analysis. Patrick’s background as an architectural engineer with a focus on sustainable MEP systems informs his multi-disciplinary and collaborative approach to building design.  Patrick’s career is highlighted by multiple awards\, speaking at several conferences\, and his involvement and leadership in the design of multiple LEED Platinum and net zero projects.
URL:https://nccashrae.org/event/2021-september-pes-webinar/
LOCATION:VA
ATTACH;FMTTYPE=image/png:https://nccashrae.org/wp-content/uploads/2021/09/PMurphy-headshot.png
END:VEVENT
END:VCALENDAR